BEGIN:VCALENDAR
VERSION:2.0
PRODID:-//Timberline Heat and Hot Water - ECPv6.15.20//NONSGML v1.0//EN
CALSCALE:GREGORIAN
METHOD:PUBLISH
X-WR-CALNAME:Timberline Heat and Hot Water
X-ORIGINAL-URL:https://timberlineheat.com
X-WR-CALDESC:Events for Timberline Heat and Hot Water
REFRESH-INTERVAL;VALUE=DURATION:PT1H
X-Robots-Tag:noindex
X-PUBLISHED-TTL:PT1H
BEGIN:VTIMEZONE
TZID:UTC
BEGIN:STANDARD
TZOFFSETFROM:+0000
TZOFFSETTO:+0000
TZNAME:UTC
DTSTART:20250101T000000
END:STANDARD
END:VTIMEZONE
BEGIN:VEVENT
DTSTART;TZID=UTC:20260530T100000
DTEND;TZID=UTC:20260531T150000
DTSTAMP:20260423T173502
CREATED:20260421T180513Z
LAST-MODIFIED:20260421T180513Z
UID:4070-1780135200-1780239600@timberlineheat.com
SUMMARY:Adventure Van Expo
DESCRIPTION:Visit the Timberline and Autoterm booth at the Adventure Van Expo in San Juan Capistrano\, CA.\n  \nCheck out open house vans\, an exciting DIY contest\, live music\, food trucks\, and the option to camp amid stunning local scenery. Celebrate the close-knit van life community with over 50 vendors showcasing their unique builds against the backdrop of San Juan Capistrano’s scenic beauty. \nExplore and shop for van-related essentials from roof racks to 4×4 recovery gear while you’re here. Come join us for a weekend filled with community spirit\, creativity\, and the breathtaking scenery of San Juan Capistrano!
URL:https://timberlineheat.com/event/adventure-van-expo/
LOCATION:San Juan Capistrano\, 30753 Avenida La Pata\, Rancho Mission Viejo\, CA\, 92675\, United States
END:VEVENT
END:VCALENDAR